BEGIN:VCALENDAR
VERSION:2.0
PRODID:-//Library Market//iCal Export//EN
BEGIN:VEVENT
SUMMARY:All About Whales!
UID:63319
DTSTAMP:20260422T201300Z
DTSTART:20260606T143000Z
DTEND:20260606T153000Z
LOCATION:Scranton Library, 801 Boston Post Road, Madison, CT 06443, United
  States
ROOM: Children’s Program Room
DESCRIPTION:The Mystic Seaport Museum is coming to Scranton! Join us as we
  learn all about whales. Learn about what they eat to how blubber works!Fo
 r grades 4-6. Registration required.
URL:https://scranton.librarycalendar.com/event/all-about-whales-63319
END:VEVENT
END:VCALENDAR
