BEGIN:VCALENDAR
VERSION:2.0
PRODID:-//Library Market//iCal Export//EN
BEGIN:VEVENT
SUMMARY:Benhaven Job Fair
UID:63299
DTSTAMP:20260423T093400Z
DTSTART:20260512T203000Z
DTEND:20260512T223000Z
LOCATION:Scranton Library, 801 Boston Post Road, Madison, CT 06443, United
  States
ROOM: Lifelong Learning Room
DESCRIPTION:Hosting a job fair
URL:https://scranton.librarycalendar.com/event/benhaven-job-fair-63299
END:VEVENT
END:VCALENDAR
