BEGIN:VCALENDAR
VERSION:2.0
PRODID:-//Library Market//iCal Export//EN
BEGIN:VEVENT
SUMMARY:Twinkletoes Music
UID:63286
DTSTAMP:20260426T033000Z
DTSTART:20260612T134500Z
DTEND:20260612T143000Z
LOCATION:Scranton Library, 801 Boston Post Road, Madison, CT 06443, United
  States
ROOM: Children’s Program Room
DESCRIPTION:Join the action-packed artistic journey with Twinkletoes Music
 ! Play the xylophone, maracas, and drums. March, skip, and gallop with rib
 bons and a parachute. Learn songs in English, French, and Italian. For age
 s 2-4.Registration required, space is very limited. 
URL:https://scranton.librarycalendar.com/event/twinkletoes-music-63286
END:VEVENT
END:VCALENDAR
