BEGIN:VCALENDAR
VERSION:2.0
PRODID:-//Library Market//iCal Export//EN
BEGIN:VEVENT
SUMMARY:Baby Prom
UID:63285
DTSTAMP:20260421T141700Z
DTSTART:20260605T140000Z
DTEND:20260605T143000Z
LOCATION:Scranton Library, 801 Boston Post Road, Madison, CT 06443, United
  States
ROOM: Children’s Program Room
DESCRIPTION:Put your dancing shoes on and wear your best clothes to our Ba
 by Prom! We will have a dance floor, photo wall, and more! For children a
 ges 2 to 5-years-old. Registration recommended. Limited walk-in availabili
 ty.
URL:https://scranton.librarycalendar.com/event/baby-prom-63285
END:VEVENT
END:VCALENDAR
