BEGIN:VCALENDAR
VERSION:2.0
PRODID:-//Library Market//iCal Export//EN
BEGIN:VEVENT
SUMMARY:Zeta Alumni Gathering
UID:63118
DTSTAMP:20260426T033000Z
DTSTART:20260808T150000Z
DTEND:20260808T170000Z
LOCATION:Scranton Library, 801 Boston Post Road, Madison, CT 06443, United
  States
ROOM: Lifelong Learning Room
DESCRIPTION:Sorority alumni get together
URL:https://scranton.librarycalendar.com/event/zeta-alumni-gathering-63118
END:VEVENT
END:VCALENDAR
