BEGIN:VCALENDAR
VERSION:2.0
PRODID:-//Library Market//iCal Export//EN
BEGIN:VEVENT
SUMMARY:Henna for Teens with Z!
UID:63110
DTSTAMP:20260419T163600Z
DTSTART:20260623T183000Z
DTEND:20260623T203000Z
LOCATION:Scranton Library, 801 Boston Post Road, Madison, CT 06443, United
  States
ROOM: Teen Room
DESCRIPTION:Stop by the Teen Room to get some henna done with awesome loca
 l artist, Z!Registration isn&#039;t required, but it is encouraged as this
  event will be done on a first-come-first-serve basis for those in grades 
 6-12.
URL:https://scranton.librarycalendar.com/event/henna-teens-z-63110
END:VEVENT
END:VCALENDAR
