BEGIN:VCALENDAR
VERSION:2.0
PRODID:-//Library Market//iCal Export//EN
BEGIN:VEVENT
SUMMARY:Dinosaur Rocks!
UID:63287
DTSTAMP:20260423T093400Z
DTSTART:20260622T203000Z
DTEND:20260622T213000Z
LOCATION:Scranton Library, 801 Boston Post Road, Madison, CT 06443, United
  States
ROOM: Children’s Program Room
DESCRIPTION:Kick off the summer with Dinosaurs Rock! Join us as we explore
  all there is to know about dinosaurs and get the chance to see fossils! 
 For ages 5 and up. Registration required.
URL:https://scranton.librarycalendar.com/index.php/event/dinosaur-rocks-63
 287
END:VEVENT
END:VCALENDAR
