BEGIN:VCALENDAR
VERSION:2.0
PRODID:-//Library Market//iCal Export//EN
BEGIN:VEVENT
SUMMARY:Tots &amp; Tales
UID:63281
DTSTAMP:20260422T082400Z
DTSTART:20260603T140000Z
DTEND:20260603T143000Z
LOCATION:Scranton Library, 801 Boston Post Road, Madison, CT 06443, United
  States
ROOM: Children’s Program Room
DESCRIPTION:Storytime for babies and toddlers of all abilities. Music, mov
 ement, rhymes, and of course, stories!For babies and toddlers ages birth-2
 .Registration recommended. Limited walk-in availability
URL:https://scranton.librarycalendar.com/index.php/event/tots-tales-63281
END:VEVENT
END:VCALENDAR
