BEGIN:VCALENDAR
VERSION:2.0
PRODID:-//Library Market//iCal Export//EN
BEGIN:VEVENT
SUMMARY:Toddler Tango
UID:63279
DTSTAMP:20260422T082400Z
DTSTART:20260602T140000Z
DTEND:20260602T143000Z
LOCATION:Scranton Library, 801 Boston Post Road, Madison, CT 06443, United
  States
ROOM: Children’s Program Room
DESCRIPTION:Rock out with your toddler in this 30 minute music and movemen
 t class for children ages 1-3.Registration recommended. Limited walk-in av
 ailability.
URL:https://scranton.librarycalendar.com/index.php/event/toddler-tango-632
 79
END:VEVENT
END:VCALENDAR
