BEGIN:VCALENDAR
VERSION:2.0
PRODID:-//Library Market//iCal Export//EN
BEGIN:VEVENT
SUMMARY:Garden Club of Madison Plant Sale Workshop
UID:62831
DTSTAMP:20260422T021400Z
DTSTART:20260421T173000Z
DTEND:20260421T203000Z
LOCATION:Scranton Library, 801 Boston Post Road, Madison, CT 06443, United
  States
ROOM: Old Post Office at Scranton Library
DESCRIPTION:Workshop for GCM Plant Sale
URL:https://scranton.librarycalendar.com/index.php/event/gcm-plant-sale-wo
 rkshop-62831
END:VEVENT
END:VCALENDAR
